Workbook

Sheet Logit
A1: b1 | B1: b2 | C1: b3 | D1: b4 | E1: b5 | F1: b6 | G1: b7 | H1: b8 | J1: ln L | K1: =SUM(D7:D759) -> -401.76515 | N1: MATRIZ DE INFORMAÇÃO E ERROS PADRÃO
A2: Interseção | B2: nwifeinc | C2: educ | D2: exper | E2: expersq | F2: age | G2: kidslt6 | H2: kidsge6
A3: 0.42559427 | B3: -0.02134475 | C3: 0.22116671 | D3: 0.20586813 | E3: -0.0031540389 | F3: -0.08802652 | G3: -1.4433668 | H3: 0.060107011 | N3: Informação I | O3: Interseção | P3: nwifeinc | Q3: educ | R3: exper | S3: expersq | T3: age | U3: kidslt6 | V3: kidsge6
N4: Interseção | O4: =SUMPRODUCT(Logit!B7:B759*(1-Logit!B7:B759)) -> 134.47037 | P4: =SUMPRODUCT(Logit!B7:B759*(1-Logit!B7:B759),data1!B2:B754) -> 2731.4475 | Q4: =SUMPRODUCT(Logit!B7:B759*(1-Logit!B7:B759),data1!C2:C754) -> 1642.6033 | R4: =SUMPRODUCT(Logit!B7:B759*(1-Logit!B7:B759),data1!D2:D754) -> 1353.4745 | S4: =SUMPRODUCT(Logit!B7:B759*(1-Logit!B7:B759),data1!E2:E754) -> 21388.561 | T4: =SUMPRODUCT(Logit!B7:B759*(1-Logit!B7:B759),data1!F2:F754) -> 5738.5619 | U4: =SUMPRODUCT(Logit!B7:B759*(1-Logit!B7:B759),data1!G2:G754) -> 31.802817 | V4: =SUMPRODUCT(Logit!B7:B759*(1-Logit!B7:B759),data1!H2:H754) -> 185.50957
D5: Grad | E5: =SUM(E7:E759) -> -4.1817454e-05 | F5: =SUM(F7:F759) -> -0.0013263854 | G5: =SUM(G7:G759) -> 0.0012687153 | H5: =SUM(H7:H759) -> 4.3096955e-05 | I5: =SUM(I7:I759) -> -0.0495334 | J5: =SUM(J7:J759) -> 0.0071243512 | K5: =SUM(K7:K759) -> 5.5193957e-05 | L5: =SUM(L7:L759) -> 0.00010128683 | N5: nwifeinc | O5: =SUMPRODUCT(Logit!B7:B759*(1-Logit!B7:B759),data1!B2:B754) -> 2731.4475 | P5: =SUMPRODUCT(Logit!B7:B759*(1-Logit!B7:B759),data1!B2:B754,data1!B2:B754) -> 72233.451 | Q5: =SUMPRODUCT(Logit!B7:B759*(1-Logit!B7:B759),data1!B2:B754,data1!C2:C754) -> 34444.074 | R5: =SUMPRODUCT(Logit!B7:B759*(1-Logit!B7:B759),data1!B2:B754,data1!D2:D754) -> 26034.1 | S5: =SUMPRODUCT(Logit!B7:B759*(1-Logit!B7:B759),data1!B2:B754,data1!E2:E754) -> 384828.09 | T5: =SUMPRODUCT(Logit!B7:B759*(1-Logit!B7:B759),data1!B2:B754,data1!F2:F754) -> 117474.14 | U5: =SUMPRODUCT(Logit!B7:B759*(1-Logit!B7:B759),data1!B2:B754,data1!G2:G754) -> 599.02201 | V5: =SUMPRODUCT(Logit!B7:B759*(1-Logit!B7:B759),data1!B2:B754,data1!H2:H754) -> 3796.2176
A6: i | B6: F_i | C6: ell_i | D6: ln(ell_i) | E6: Interseção | F6: nwifeinc | G6: educ | H6: exper | I6: expersq | J6: age | K6: kidslt6 | L6: kidsge6 | N6: educ | O6: =SUMPRODUCT(Logit!B7:B759*(1-Logit!B7:B759),data1!C2:C754) -> 1642.6033 | P6: =SUMPRODUCT(Logit!B7:B759*(1-Logit!B7:B759),data1!C2:C754,data1!B2:B754) -> 34444.074 | Q6: =SUMPRODUCT(Logit!B7:B759*(1-Logit!B7:B759),data1!C2:C754,data1!C2:C754) -> 20698.513 | R6: =SUMPRODUCT(Logit!B7:B759*(1-Logit!B7:B759),data1!C2:C754,data1!D2:D754) -> 16403.565 | S6: =SUMPRODUCT(Logit!B7:B759*(1-Logit!B7:B759),data1!C2:C754,data1!E2:E754) -> 256047.42 | T6: =SUMPRODUCT(Logit!B7:B759*(1-Logit!B7:B759),data1!C2:C754,data1!F2:F754) -> 69892.044 | U6: =SUMPRODUCT(Logit!B7:B759*(1-Logit!B7:B759),data1!C2:C754,data1!G2:G754) -> 415.4894 | V6: =SUMPRODUCT(Logit!B7:B759*(1-Logit!B7:B759),data1!C2:C754,data1!H2:H754) -> 2239.7227
A7: 1 | B7: =1/(1+EXP(-($A$3+SUMPRODUCT($B$3:$H$3,data1!B2:H2)))) -> 0.70066552 | C7: =(B7^data1!A2)*((1-B7)^(1-data1!A2)) -> 0.70066552 | D7: =LN(C7) -> -0.35572465 | E7: =data1!$A2-Logit!$B7 -> 0.29933448 | F7: =(data1!$A2-Logit!$B7)*data1!B2 -> 3.2657571 | G7: =(data1!$A2-Logit!$B7)*data1!C2 -> 3.5920137 | H7: =(data1!$A2-Logit!$B7)*data1!D2 -> 4.1906827 | I7: =(data1!$A2-Logit!$B7)*data1!E2 -> 58.669557 | J7: =(data1!$A2-Logit!$B7)*data1!F2 -> 9.5787032 | K7: =(data1!$A2-Logit!$B7)*data1!G2 -> 0.29933448 | L7: =(data1!$A2-Logit!$B7)*data1!H2 -> 0 | N7: exper | O7: =SUMPRODUCT(Logit!B7:B759*(1-Logit!B7:B759),data1!D2:D754) -> 1353.4745 | P7: =SUMPRODUCT(Logit!B7:B759*(1-Logit!B7:B759),data1!D2:D754,data1!B2:B754) -> 26034.1 | Q7: =SUMPRODUCT(Logit!B7:B759*(1-Logit!B7:B759),data1!D2:D754,data1!C2:C754) -> 16403.565 | R7: =SUMPRODUCT(Logit!B7:B759*(1-Logit!B7:B759),data1!D2:D754,data1!D2:D754) -> 21388.561 | S7: =SUMPRODUCT(Logit!B7:B759*(1-Logit!B7:B759),data1!D2:D754,data1!E2:E754) -> 442774.5 | T7: =SUMPRODUCT(Logit!B7:B759*(1-Logit!B7:B759),data1!D2:D754,data1!F2:F754) -> 61202.026 | U7: =SUMPRODUCT(Logit!B7:B759*(1-Logit!B7:B759),data1!D2:D754,data1!G2:G754) -> 259.76658 | V7: =SUMPRODUCT(Logit!B7:B759*(1-Logit!B7:B759),data1!D2:D754,data1!H2:H754) -> 1407.0201
A8: 2 | B8: =1/(1+EXP(-($A$3+SUMPRODUCT($B$3:$H$3,data1!B3:H3)))) -> 0.74899899 | C8: =(B8^data1!A3)*((1-B8)^(1-data1!A3)) -> 0.74899899 | D8: =LN(C8) -> -0.28901765 | E8: =data1!$A3-Logit!$B8 -> 0.25100101 | F8: =(data1!$A3-Logit!$B8)*data1!B3 -> 4.8945149 | G8: =(data1!$A3-Logit!$B8)*data1!C3 -> 3.0120121 | H8: =(data1!$A3-Logit!$B8)*data1!D3 -> 1.2550051 | I8: =(data1!$A3-Logit!$B8)*data1!E3 -> 6.2750253 | J8: =(data1!$A3-Logit!$B8)*data1!F3 -> 7.5300303 | K8: =(data1!$A3-Logit!$B8)*data1!G3 -> 0 | L8: =(data1!$A3-Logit!$B8)*data1!H3 -> 0.50200202 | N8: expersq | O8: =SUMPRODUCT(Logit!B7:B759*(1-Logit!B7:B759),data1!E2:E754) -> 21388.561 | P8: =SUMPRODUCT(Logit!B7:B759*(1-Logit!B7:B759),data1!E2:E754,data1!B2:B754) -> 384828.09 | Q8: =SUMPRODUCT(Logit!B7:B759*(1-Logit!B7:B759),data1!E2:E754,data1!C2:C754) -> 256047.42 | R8: =SUMPRODUCT(Logit!B7:B759*(1-Logit!B7:B759),data1!E2:E754,data1!D2:D754) -> 442774.5 | S8: =SUMPRODUCT(Logit!B7:B759*(1-Logit!B7:B759),data1!E2:E754,data1!E2:E754) -> 11047178 | T8: =SUMPRODUCT(Logit!B7:B759*(1-Logit!B7:B759),data1!E2:E754,data1!F2:F754) -> 1020090 | U8: =SUMPRODUCT(Logit!B7:B759*(1-Logit!B7:B759),data1!E2:E754,data1!G2:G754) -> 2943.5884 | V8: =SUMPRODUCT(Logit!B7:B759*(1-Logit!B7:B759),data1!E2:E754,data1!H2:H754) -> 16047.256
A9: 3 | B9: =1/(1+EXP(-($A$3+SUMPRODUCT($B$3:$H$3,data1!B4:H4)))) -> 0.70203247 | C9: =(B9^data1!A4)*((1-B9)^(1-data1!A4)) -> 0.70203247 | D9: =LN(C9) -> -0.35377562 | E9: =data1!$A4-Logit!$B9 -> 0.29796753 | F9: =(data1!$A4-Logit!$B9)*data1!B4 -> 3.5875023 | G9: =(data1!$A4-Logit!$B9)*data1!C4 -> 3.5756104 | H9: =(data1!$A4-Logit!$B9)*data1!D4 -> 4.469513 | I9: =(data1!$A4-Logit!$B9)*data1!E4 -> 67.042694 | J9: =(data1!$A4-Logit!$B9)*data1!F4 -> 10.428864 | K9: =(data1!$A4-Logit!$B9)*data1!G4 -> 0.29796753 | L9: =(data1!$A4-Logit!$B9)*data1!H4 -> 0.89390259 | N9: age | O9: =SUMPRODUCT(Logit!B7:B759*(1-Logit!B7:B759),data1!F2:F754) -> 5738.5619 | P9: =SUMPRODUCT(Logit!B7:B759*(1-Logit!B7:B759),data1!F2:F754,data1!B2:B754) -> 117474.14 | Q9: =SUMPRODUCT(Logit!B7:B759*(1-Logit!B7:B759),data1!F2:F754,data1!C2:C754) -> 69892.044 | R9: =SUMPRODUCT(Logit!B7:B759*(1-Logit!B7:B759),data1!F2:F754,data1!D2:D754) -> 61202.026 | S9: =SUMPRODUCT(Logit!B7:B759*(1-Logit!B7:B759),data1!F2:F754,data1!E2:E754) -> 1020090 | T9: =SUMPRODUCT(Logit!B7:B759*(1-Logit!B7:B759),data1!F2:F754,data1!F2:F754) -> 253498.58 | U9: =SUMPRODUCT(Logit!B7:B759*(1-Logit!B7:B759),data1!F2:F754,data1!G2:G754) -> 1099.1336 | V9: =SUMPRODUCT(Logit!B7:B759*(1-Logit!B7:B759),data1!F2:F754,data1!H2:H754) -> 7342.0852
A10: 4 | B10: =1/(1+EXP(-($A$3+SUMPRODUCT($B$3:$H$3,data1!B5:H5)))) -> 0.77617844 | C10: =(B10^data1!A5)*((1-B10)^(1-data1!A5)) -> 0.77617844 | D10: =LN(C10) -> -0.25337284 | E10: =data1!$A5-Logit!$B10 -> 0.22382156 | F10: =(data1!$A5-Logit!$B10)*data1!B5 -> 1.5219857 | G10: =(data1!$A5-Logit!$B10)*data1!C5 -> 2.6858588 | H10: =(data1!$A5-Logit!$B10)*data1!D5 -> 1.3429294 | I10: =(data1!$A5-Logit!$B10)*data1!E5 -> 8.0575763 | J10: =(data1!$A5-Logit!$B10)*data1!F5 -> 7.6099331 | K10: =(data1!$A5-Logit!$B10)*data1!G5 -> 0 | L10: =(data1!$A5-Logit!$B10)*data1!H5 -> 0.67146469 | N10: kidslt6 | O10: =SUMPRODUCT(Logit!B7:B759*(1-Logit!B7:B759),data1!G2:G754) -> 31.802817 | P10: =SUMPRODUCT(Logit!B7:B759*(1-Logit!B7:B759),data1!G2:G754,data1!B2:B754) -> 599.02201 | Q10: =SUMPRODUCT(Logit!B7:B759*(1-Logit!B7:B759),data1!G2:G754,data1!C2:C754) -> 415.4894 | R10: =SUMPRODUCT(Logit!B7:B759*(1-Logit!B7:B759),data1!G2:G754,data1!D2:D754) -> 259.76658 | S10: =SUMPRODUCT(Logit!B7:B759*(1-Logit!B7:B759),data1!G2:G754,data1!E2:E754) -> 2943.5884 | T10: =SUMPRODUCT(Logit!B7:B759*(1-Logit!B7:B759),data1!G2:G754,data1!F2:F754) -> 1099.1336 | U10: =SUMPRODUCT(Logit!B7:B759*(1-Logit!B7:B759),data1!G2:G754,data1!G2:G754) -> 41.014873 | V10: =SUMPRODUCT(Logit!B7:B759*(1-Logit!B7:B759),data1!G2:G754,data1!H2:H754) -> 48.482951
A11: 5 | B11: =1/(1+EXP(-($A$3+SUMPRODUCT($B$3:$H$3,data1!B6:H6)))) -> 0.58113919 | C11: =(B11^data1!A6)*((1-B11)^(1-data1!A6)) -> 0.58113919 | D11: =LN(C11) -> -0.54276498 | E11: =data1!$A6-Logit!$B11 -> 0.41886081 | F11: =(data1!$A6-Logit!$B11)*data1!B6 -> 8.4191264 | G11: =(data1!$A6-Logit!$B11)*data1!C6 -> 5.8640513 | H11: =(data1!$A6-Logit!$B11)*data1!D6 -> 2.9320257 | I11: =(data1!$A6-Logit!$B11)*data1!E6 -> 20.52418 | J11: =(data1!$A6-Logit!$B11)*data1!F6 -> 12.984685 | K11: =(data1!$A6-Logit!$B11)*data1!G6 -> 0.41886081 | L11: =(data1!$A6-Logit!$B11)*data1!H6 -> 0.83772162 | N11: kidsge6 | O11: =SUMPRODUCT(Logit!B7:B759*(1-Logit!B7:B759),data1!H2:H754) -> 185.50957 | P11: =SUMPRODUCT(Logit!B7:B759*(1-Logit!B7:B759),data1!H2:H754,data1!B2:B754) -> 3796.2176 | Q11: =SUMPRODUCT(Logit!B7:B759*(1-Logit!B7:B759),data1!H2:H754,data1!C2:C754) -> 2239.7227 | R11: =SUMPRODUCT(Logit!B7:B759*(1-Logit!B7:B759),data1!H2:H754,data1!D2:D754) -> 1407.0201 | S11: =SUMPRODUCT(Logit!B7:B759*(1-Logit!B7:B759),data1!H2:H754,data1!E2:E754) -> 16047.256 | T11: =SUMPRODUCT(Logit!B7:B759*(1-Logit!B7:B759),data1!H2:H754,data1!F2:F754) -> 7342.0852 | U11: =SUMPRODUCT(Logit!B7:B759*(1-Logit!B7:B759),data1!H2:H754,data1!G2:G754) -> 48.482951 | V11: =SUMPRODUCT(Logit!B7:B759*(1-Logit!B7:B759),data1!H2:H754,data1!H2:H754) -> 488.44749
A12: 6 | B12: =1/(1+EXP(-($A$3+SUMPRODUCT($B$3:$H$3,data1!B7:H7)))) -> 0.81375912 | C12: =(B12^data1!A7)*((1-B12)^(1-data1!A7)) -> 0.81375912 | D12: =LN(C12) -> -0.20609088 | E12: =data1!$A7-Logit!$B12 -> 0.18624088 | F12: =(data1!$A7-Logit!$B12)*data1!B7 -> 1.8361588 | G12: =(data1!$A7-Logit!$B12)*data1!C7 -> 2.2348906 | H12: =(data1!$A7-Logit!$B12)*data1!D7 -> 6.1459491 | I12: =(data1!$A7-Logit!$B12)*data1!E7 -> 202.81632 | J12: =(data1!$A7-Logit!$B12)*data1!F7 -> 10.057008 | K12: =(data1!$A7-Logit!$B12)*data1!G7 -> 0 | L12: =(data1!$A7-Logit!$B12)*data1!H7 -> 0
A13: 7 | B13: =1/(1+EXP(-($A$3+SUMPRODUCT($B$3:$H$3,data1!B8:H8)))) -> 0.92519065 | C13: =(B13^data1!A8)*((1-B13)^(1-data1!A8)) -> 0.92519065 | D13: =LN(C13) -> -0.077755456 | E13: =data1!$A8-Logit!$B13 -> 0.074809351 | F13: =(data1!$A8-Logit!$B13)*data1!B8 -> 0.68465878 | G13: =(data1!$A8-Logit!$B13)*data1!C8 -> 1.1969496 | H13: =(data1!$A8-Logit!$B13)*data1!D8 -> 0.82290286 | I13: =(data1!$A8-Logit!$B13)*data1!E8 -> 9.0519315 | J13: =(data1!$A8-Logit!$B13)*data1!F8 -> 2.767946 | K13: =(data1!$A8-Logit!$B13)*data1!G8 -> 0 | L13: =(data1!$A8-Logit!$B13)*data1!H8 -> 0.1496187
A14: 8 | B14: =1/(1+EXP(-($A$3+SUMPRODUCT($B$3:$H$3,data1!B9:H9)))) -> 0.80770883 | C14: =(B14^data1!A9)*((1-B14)^(1-data1!A9)) -> 0.80770883 | D14: =LN(C14) -> -0.21355364 | E14: =data1!$A9-Logit!$B14 -> 0.19229117 | F14: =(data1!$A9-Logit!$B14)*data1!B9 -> 2.095981 | G14: =(data1!$A9-Logit!$B14)*data1!C9 -> 2.307494 | H14: =(data1!$A9-Logit!$B14)*data1!D9 -> 6.7301909 | I14: =(data1!$A9-Logit!$B14)*data1!E9 -> 235.55668 | J14: =(data1!$A9-Logit!$B14)*data1!F9 -> 10.383723 | K14: =(data1!$A9-Logit!$B14)*data1!G9 -> 0 | L14: =(data1!$A9-Logit!$B14)*data1!H9 -> 0 | N14: Inversa de I (MINVERSE) | O14: Interseção | P14: nwifeinc | Q14: educ | R14: exper | S14: expersq | T14: age | U14: kidslt6 | V14: kidsge6
A15: 9 | B15: =1/(1+EXP(-($A$3+SUMPRODUCT($B$3:$H$3,data1!B10:H10)))) -> 0.84931948 | C15: =(B15^data1!A10)*((1-B15)^(1-data1!A10)) -> 0.84931948 | D15: =LN(C15) -> -0.16331986 | E15: =data1!$A10-Logit!$B15 -> 0.15068052 | F15: =(data1!$A10-Logit!$B15)*data1!B10 -> 2.6075264 | G15: =(data1!$A10-Logit!$B15)*data1!C10 -> 1.8081662 | H15: =(data1!$A10-Logit!$B15)*data1!D10 -> 3.6163325 | I15: =(data1!$A10-Logit!$B15)*data1!E10 -> 86.791979 | J15: =(data1!$A10-Logit!$B15)*data1!F10 -> 7.2326649 | K15: =(data1!$A10-Logit!$B15)*data1!G10 -> 0 | L15: =(data1!$A10-Logit!$B15)*data1!H10 -> 0.30136104 | N15: Interseção | O15: =INDEX(MINVERSE(O4:V11),1,1) -> 0.7402365 | P15: =INDEX(MINVERSE(O4:V11),1,2) -> 0.00072968502 | Q15: =INDEX(MINVERSE(O4:V11),1,3) -> -0.022082982 | R15: =INDEX(MINVERSE(O4:V11),1,4) -> -0.0040718411 | S15: =INDEX(MINVERSE(O4:V11),1,5) -> 0.00015581967 | T15: =INDEX(MINVERSE(O4:V11),1,6) -> -0.0095414926 | U15: =INDEX(MINVERSE(O4:V11),1,7) -> -0.055108467 | V15: =INDEX(MINVERSE(O4:V11),1,8) -> -0.030046796
A16: 10 | B16: =1/(1+EXP(-($A$3+SUMPRODUCT($B$3:$H$3,data1!B11:H11)))) -> 0.91857888 | C16: =(B16^data1!A11)*((1-B16)^(1-data1!A11)) -> 0.91857888 | D16: =LN(C16) -> -0.084927494 | E16: =data1!$A11-Logit!$B16 -> 0.081421115 | F16: =(data1!$A11-Logit!$B16)*data1!B11 -> 1.0523679 | G16: =(data1!$A11-Logit!$B16)*data1!C11 -> 0.97705338 | H16: =(data1!$A11-Logit!$B16)*data1!D11 -> 1.7098434 | I16: =(data1!$A11-Logit!$B16)*data1!E11 -> 35.906712 | J16: =(data1!$A11-Logit!$B16)*data1!F11 -> 3.1754235 | K16: =(data1!$A11-Logit!$B16)*data1!G11 -> 0 | L16: =(data1!$A11-Logit!$B16)*data1!H11 -> 0.16284223 | N16: nwifeinc | O16: =INDEX(MINVERSE(O4:V11),2,1) -> 0.00072968502 | P16: =INDEX(MINVERSE(O4:V11),2,2) -> 7.0920695e-05 | Q16: =INDEX(MINVERSE(O4:V11),2,3) -> -0.00012773314 | R16: =INDEX(MINVERSE(O4:V11),2,4) -> 3.9450771e-06 | S16: =INDEX(MINVERSE(O4:V11),2,5) -> 4.648869e-07 | T16: =INDEX(MINVERSE(O4:V11),2,6) -> -1.6576644e-05 | U16: =INDEX(MINVERSE(O4:V11),2,7) -> 0.00011555033 | V16: =INDEX(MINVERSE(O4:V11),2,8) -> -3.1555412e-05
A17: 11 | B17: =1/(1+EXP(-($A$3+SUMPRODUCT($B$3:$H$3,data1!B12:H12)))) -> 0.89036876 | C17: =(B17^data1!A12)*((1-B17)^(1-data1!A12)) -> 0.89036876 | D17: =LN(C17) -> -0.11611956 | E17: =data1!$A12-Logit!$B17 -> 0.10963124 | F17: =(data1!$A12-Logit!$B17)*data1!B12 -> 2.664034 | G17: =(data1!$A12-Logit!$B17)*data1!C12 -> 1.3155749 | H17: =(data1!$A12-Logit!$B17)*data1!D12 -> 1.6444686 | I17: =(data1!$A12-Logit!$B17)*data1!E12 -> 24.667029 | J17: =(data1!$A12-Logit!$B17)*data1!F12 -> 3.6178309 | K17: =(data1!$A12-Logit!$B17)*data1!G12 -> 0 | L17: =(data1!$A12-Logit!$B17)*data1!H12 -> 0.10963124 | N17: educ | O17: =INDEX(MINVERSE(O4:V11),3,1) -> -0.022082982 | P17: =INDEX(MINVERSE(O4:V11),3,2) -> -0.00012773314 | Q17: =INDEX(MINVERSE(O4:V11),3,3) -> 0.0018869956 | R17: =INDEX(MINVERSE(O4:V11),3,4) -> -3.1092909e-05 | S17: =INDEX(MINVERSE(O4:V11),3,5) -> 1.0709823e-06 | T17: =INDEX(MINVERSE(O4:V11),3,6) -> 3.8085234e-05 | U17: =INDEX(MINVERSE(O4:V11),3,7) -> -0.0014441318 | V17: =INDEX(MINVERSE(O4:V11),3,8) -> 0.00035236746
A18: 12 | B18: =1/(1+EXP(-($A$3+SUMPRODUCT($B$3:$H$3,data1!B13:H13)))) -> 0.74362398 | C18: =(B18^data1!A13)*((1-B18)^(1-data1!A13)) -> 0.74362398 | D18: =LN(C18) -> -0.29621977 | E18: =data1!$A13-Logit!$B18 -> 0.25637602 | F18: =(data1!$A13-Logit!$B18)*data1!B13 -> 5.0506259 | G18: =(data1!$A13-Logit!$B18)*data1!C13 -> 2.8201362 | H18: =(data1!$A13-Logit!$B18)*data1!D13 -> 3.5892643 | I18: =(data1!$A13-Logit!$B18)*data1!E13 -> 50.2497 | J18: =(data1!$A13-Logit!$B18)*data1!F13 -> 10.767793 | K18: =(data1!$A13-Logit!$B18)*data1!G13 -> 0 | L18: =(data1!$A13-Logit!$B18)*data1!H13 -> 0.25637602 | N18: exper | O18: =INDEX(MINVERSE(O4:V11),4,1) -> -0.0040718411 | P18: =INDEX(MINVERSE(O4:V11),4,2) -> 3.9450771e-06 | Q18: =INDEX(MINVERSE(O4:V11),4,3) -> -3.1092909e-05 | R18: =INDEX(MINVERSE(O4:V11),4,4) -> 0.0010276467 | S18: =INDEX(MINVERSE(O4:V11),4,5) -> -2.9771105e-05 | T18: =INDEX(MINVERSE(O4:V11),4,6) -> -3.4664357e-05 | U18: =INDEX(MINVERSE(O4:V11),4,7) -> -0.00029630201 | V18: =INDEX(MINVERSE(O4:V11),4,8) -> 0.00022669352
A19: 13 | B19: =1/(1+EXP(-($A$3+SUMPRODUCT($B$3:$H$3,data1!B14:H14)))) -> 0.23067123 | C19: =(B19^data1!A14)*((1-B19)^(1-data1!A14)) -> 0.23067123 | D19: =LN(C19) -> -1.4667618 | E19: =data1!$A14-Logit!$B19 -> 0.76932877 | F19: =(data1!$A14-Logit!$B19)*data1!B14 -> 11.539937 | G19: =(data1!$A14-Logit!$B19)*data1!C14 -> 9.2319453 | H19: =(data1!$A14-Logit!$B19)*data1!D14 -> 0 | I19: =(data1!$A14-Logit!$B19)*data1!E14 -> 0 | J19: =(data1!$A14-Logit!$B19)*data1!F14 -> 23.079863 | K19: =(data1!$A14-Logit!$B19)*data1!G14 -> 0.76932877 | L19: =(data1!$A14-Logit!$B19)*data1!H14 -> 1.5386575 | N19: expersq | O19: =INDEX(MINVERSE(O4:V11),5,1) -> 0.00015581967 | P19: =INDEX(MINVERSE(O4:V11),5,2) -> 4.648869e-07 | Q19: =INDEX(MINVERSE(O4:V11),5,3) -> 1.0709823e-06 | R19: =INDEX(MINVERSE(O4:V11),5,4) -> -2.9771105e-05 | S19: =INDEX(MINVERSE(O4:V11),5,5) -> 1.0324841e-06 | T19: =INDEX(MINVERSE(O4:V11),5,6) -> -9.7691149e-07 | U19: =INDEX(MINVERSE(O4:V11),5,7) -> 4.0437299e-06 | V19: =INDEX(MINVERSE(O4:V11),5,8) -> -1.5826329e-06
A20: 14 | B20: =1/(1+EXP(-($A$3+SUMPRODUCT($B$3:$H$3,data1!B15:H15)))) -> 0.79689458 | C20: =(B20^data1!A15)*((1-B20)^(1-data1!A15)) -> 0.79689458 | D20: =LN(C20) -> -0.22703288 | E20: =data1!$A15-Logit!$B20 -> 0.20310542 | F20: =(data1!$A15-Logit!$B20)*data1!B15 -> 2.9653392 | G20: =(data1!$A15-Logit!$B20)*data1!C15 -> 2.437265 | H20: =(data1!$A15-Logit!$B20)*data1!D15 -> 2.8434759 | I20: =(data1!$A15-Logit!$B20)*data1!E15 -> 39.808662 | J20: =(data1!$A15-Logit!$B20)*data1!F15 -> 8.733533 | K20: =(data1!$A15-Logit!$B20)*data1!G15 -> 0 | L20: =(data1!$A15-Logit!$B20)*data1!H15 -> 0.40621084 | N20: age | O20: =INDEX(MINVERSE(O4:V11),6,1) -> -0.0095414926 | P20: =INDEX(MINVERSE(O4:V11),6,2) -> -1.6576644e-05 | Q20: =INDEX(MINVERSE(O4:V11),6,3) -> 3.8085234e-05 | R20: =INDEX(MINVERSE(O4:V11),6,4) -> -3.4664357e-05 | S20: =INDEX(MINVERSE(O4:V11),6,5) -> -9.7691149e-07 | T20: =INDEX(MINVERSE(O4:V11),6,6) -> 0.00021237394 | U20: =INDEX(MINVERSE(O4:V11),6,7) -> 0.0014061859 | V20: =INDEX(MINVERSE(O4:V11),6,8) -> 0.00037808143
A21: 15 | B21: =1/(1+EXP(-($A$3+SUMPRODUCT($B$3:$H$3,data1!B16:H16)))) -> 0.37945801 | C21: =(B21^data1!A16)*((1-B21)^(1-data1!A16)) -> 0.37945801 | D21: =LN(C21) -> -0.96901133 | E21: =data1!$A16-Logit!$B21 -> 0.62054199 | F21: =(data1!$A16-Logit!$B21)*data1!B16 -> 15.284517 | G21: =(data1!$A16-Logit!$B21)*data1!C16 -> 6.2054199 | H21: =(data1!$A16-Logit!$B21)*data1!D16 -> 3.7232519 | I21: =(data1!$A16-Logit!$B21)*data1!E16 -> 22.339512 | J21: =(data1!$A16-Logit!$B21)*data1!F16 -> 26.683306 | K21: =(data1!$A16-Logit!$B21)*data1!G16 -> 0 | L21: =(data1!$A16-Logit!$B21)*data1!H16 -> 0.62054199 | N21: kidslt6 | O21: =INDEX(MINVERSE(O4:V11),7,1) -> -0.055108467 | P21: =INDEX(MINVERSE(O4:V11),7,2) -> 0.00011555033 | Q21: =INDEX(MINVERSE(O4:V11),7,3) -> -0.0014441318 | R21: =INDEX(MINVERSE(O4:V11),7,4) -> -0.00029630201 | S21: =INDEX(MINVERSE(O4:V11),7,5) -> 4.0437299e-06 | T21: =INDEX(MINVERSE(O4:V11),7,6) -> 0.0014061859 | U21: =INDEX(MINVERSE(O4:V11),7,7) -> 0.04144696 | V21: =INDEX(MINVERSE(O4:V11),7,8) -> 0.0021233663
A22: 16 | B22: =1/(1+EXP(-($A$3+SUMPRODUCT($B$3:$H$3,data1!B17:H17)))) -> 0.76512064 | C22: =(B22^data1!A17)*((1-B22)^(1-data1!A17)) -> 0.76512064 | D22: =LN(C22) -> -0.26772175 | E22: =data1!$A17-Logit!$B22 -> 0.23487936 | F22: =(data1!$A17-Logit!$B22)*data1!B17 -> 4.1176763 | G22: =(data1!$A17-Logit!$B22)*data1!C17 -> 2.5836729 | H22: =(data1!$A17-Logit!$B22)*data1!D17 -> 2.1139142 | I22: =(data1!$A17-Logit!$B22)*data1!E17 -> 19.025228 | J22: =(data1!$A17-Logit!$B22)*data1!F17 -> 8.2207774 | K22: =(data1!$A17-Logit!$B22)*data1!G17 -> 0 | L22: =(data1!$A17-Logit!$B22)*data1!H17 -> 0.70463807 | N22: kidsge6 | O22: =INDEX(MINVERSE(O4:V11),8,1) -> -0.030046796 | P22: =INDEX(MINVERSE(O4:V11),8,2) -> -3.1555412e-05 | Q22: =INDEX(MINVERSE(O4:V11),8,3) -> 0.00035236746 | R22: =INDEX(MINVERSE(O4:V11),8,4) -> 0.00022669352 | S22: =INDEX(MINVERSE(O4:V11),8,5) -> -1.5826329e-06 | T22: =INDEX(MINVERSE(O4:V11),8,6) -> 0.00037808143 | U22: =INDEX(MINVERSE(O4:V11),8,7) -> 0.0021233663 | V22: =INDEX(MINVERSE(O4:V11),8,8) -> 0.0055935088
A23: 17 | B23: =1/(1+EXP(-($A$3+SUMPRODUCT($B$3:$H$3,data1!B18:H18)))) -> 0.87755255 | C23: =(B23^data1!A18)*((1-B23)^(1-data1!A18)) -> 0.87755255 | D23: =LN(C23) -> -0.13061844 | E23: =data1!$A18-Logit!$B23 -> 0.12244745 | F23: =(data1!$A18-Logit!$B23)*data1!B18 -> 1.7265066 | G23: =(data1!$A18-Logit!$B23)*data1!C18 -> 1.4693694 | H23: =(data1!$A18-Logit!$B23)*data1!D18 -> 2.448949 | I23: =(data1!$A18-Logit!$B23)*data1!E18 -> 48.97898 | J23: =(data1!$A18-Logit!$B23)*data1!F18 -> 5.2652404 | K23: =(data1!$A18-Logit!$B23)*data1!G18 -> 0 | L23: =(data1!$A18-Logit!$B23)*data1!H18 -> 0.2448949
A24: 18 | B24: =1/(1+EXP(-($A$3+SUMPRODUCT($B$3:$H$3,data1!B19:H19)))) -> 0.67495435 | C24: =(B24^data1!A19)*((1-B24)^(1-data1!A19)) -> 0.67495435 | D24: =LN(C24) -> -0.39311021 | E24: =data1!$A19-Logit!$B24 -> 0.32504565 | F24: =(data1!$A19-Logit!$B24)*data1!B19 -> 5.1483979 | G24: =(data1!$A19-Logit!$B24)*data1!C19 -> 3.9005477 | H24: =(data1!$A19-Logit!$B24)*data1!D19 -> 1.9502739 | I24: =(data1!$A19-Logit!$B24)*data1!E19 -> 11.701643 | J24: =(data1!$A19-Logit!$B24)*data1!F19 -> 12.67678 | K24: =(data1!$A19-Logit!$B24)*data1!G19 -> 0 | L24: =(data1!$A19-Logit!$B24)*data1!H19 -> 1.6252282
A25: 19 | B25: =1/(1+EXP(-($A$3+SUMPRODUCT($B$3:$H$3,data1!B20:H20)))) -> 0.86806082 | C25: =(B25^data1!A20)*((1-B25)^(1-data1!A20)) -> 0.86806082 | D25: =LN(C25) -> -0.14149349 | E25: =data1!$A20-Logit!$B25 -> 0.13193918 | F25: =(data1!$A20-Logit!$B25)*data1!B20 -> 1.8603424 | G25: =(data1!$A20-Logit!$B25)*data1!C20 -> 1.5832701 | H25: =(data1!$A20-Logit!$B25)*data1!D20 -> 3.0346011 | I25: =(data1!$A20-Logit!$B25)*data1!E20 -> 69.795825 | J25: =(data1!$A20-Logit!$B25)*data1!F20 -> 5.937263 | K25: =(data1!$A20-Logit!$B25)*data1!G20 -> 0 | L25: =(data1!$A20-Logit!$B25)*data1!H20 -> 0 | N25: Erros Padrão dos Betas
A26: 20 | B26: =1/(1+EXP(-($A$3+SUMPRODUCT($B$3:$H$3,data1!B21:H21)))) -> 0.834323 | C26: =(B26^data1!A21)*((1-B26)^(1-data1!A21)) -> 0.834323 | D26: =LN(C26) -> -0.18113466 | E26: =data1!$A21-Logit!$B26 -> 0.165677 | F26: =(data1!$A21-Logit!$B26)*data1!B21 -> 1.7064666 | G26: =(data1!$A21-Logit!$B26)*data1!C21 -> 1.9881239 | H26: =(data1!$A21-Logit!$B26)*data1!D21 -> 1.491093 | I26: =(data1!$A21-Logit!$B26)*data1!E21 -> 13.419837 | J26: =(data1!$A21-Logit!$B26)*data1!F21 -> 5.7986949 | K26: =(data1!$A21-Logit!$B26)*data1!G21 -> 0 | L26: =(data1!$A21-Logit!$B26)*data1!H21 -> 0.66270798 | N26: Beta | O26: Interseção | P26: nwifeinc | Q26: educ | R26: exper | S26: expersq | T26: age | U26: kidslt6 | V26: kidsge6
A27: 21 | B27: =1/(1+EXP(-($A$3+SUMPRODUCT($B$3:$H$3,data1!B22:H22)))) -> 0.70146557 | C27: =(B27^data1!A22)*((1-B27)^(1-data1!A22)) -> 0.70146557 | D27: =LN(C27) -> -0.35458346 | E27: =data1!$A22-Logit!$B27 -> 0.29853443 | F27: =(data1!$A22-Logit!$B27)*data1!B22 -> 6.7632919 | G27: =(data1!$A22-Logit!$B27)*data1!C22 -> 4.7765508 | H27: =(data1!$A22-Logit!$B27)*data1!D22 -> 1.4926721 | I27: =(data1!$A22-Logit!$B27)*data1!E22 -> 7.4633607 | J27: =(data1!$A22-Logit!$B27)*data1!F22 -> 12.538446 | K27: =(data1!$A22-Logit!$B27)*data1!G22 -> 0 | L27: =(data1!$A22-Logit!$B27)*data1!H22 -> 0.59706885 | N27: Estimativa | O27: =Logit!A3 -> 0.42559427 | P27: =Logit!B3 -> -0.02134475 | Q27: =Logit!C3 -> 0.22116671 | R27: =Logit!D3 -> 0.20586813 | S27: =Logit!E3 -> -0.0031540389 | T27: =Logit!F3 -> -0.08802652 | U27: =Logit!G3 -> -1.4433668 | V27: =Logit!H3 -> 0.060107011
A28: 22 | B28: =1/(1+EXP(-($A$3+SUMPRODUCT($B$3:$H$3,data1!B23:H23)))) -> 0.89557808 | C28: =(B28^data1!A23)*((1-B28)^(1-data1!A23)) -> 0.89557808 | D28: =LN(C28) -> -0.11028587 | E28: =data1!$A23-Logit!$B28 -> 0.10442192 | F28: =(data1!$A23-Logit!$B28)*data1!B23 -> 0.8447783 | G28: =(data1!$A23-Logit!$B28)*data1!C23 -> 1.253063 | H28: =(data1!$A23-Logit!$B28)*data1!D23 -> 1.1486411 | I28: =(data1!$A23-Logit!$B28)*data1!E23 -> 12.635052 | J28: =(data1!$A23-Logit!$B28)*data1!F23 -> 3.1326575 | K28: =(data1!$A23-Logit!$B28)*data1!G23 -> 0 | L28: =(data1!$A23-Logit!$B28)*data1!H23 -> 0 | N28: Erro Padrão | O28: =SQRT(O15) -> 0.86036998 | P28: =SQRT(P16) -> 0.0084214426 | Q28: =SQRT(Q17) -> 0.043439562 | R28: =SQRT(R18) -> 0.032056929 | S28: =SQRT(S19) -> 0.0010161122 | T28: =SQRT(T20) -> 0.014573055 | U28: =SQRT(U21) -> 0.20358527 | V28: =SQRT(V22) -> 0.074789764
A29: 23 | B29: =1/(1+EXP(-($A$3+SUMPRODUCT($B$3:$H$3,data1!B24:H24)))) -> 0.79997232 | C29: =(B29^data1!A24)*((1-B29)^(1-data1!A24)) -> 0.79997232 | D29: =LN(C29) -> -0.22317816 | E29: =data1!$A24-Logit!$B29 -> 0.20002768 | F29: =(data1!$A24-Logit!$B29)*data1!B24 -> 3.4962839 | G29: =(data1!$A24-Logit!$B29)*data1!C24 -> 2.6003599 | H29: =(data1!$A24-Logit!$B29)*data1!D24 -> 3.6004983 | I29: =(data1!$A24-Logit!$B29)*data1!E24 -> 64.80897 | J29: =(data1!$A24-Logit!$B29)*data1!F24 -> 9.6013289 | K29: =(data1!$A24-Logit!$B29)*data1!G24 -> 0 | L29: =(data1!$A24-Logit!$B29)*data1!H24 -> 0 | N29: Estat. z | O29: =O27/O28 -> 0.49466425 | P29: =P27/P28 -> -2.5345717 | Q29: =Q27/Q28 -> 5.091366 | R29: =R27/R28 -> 6.4219542 | S29: =S27/S28 -> -3.1040261 | T29: =T27/T28 -> -6.0403613 | U29: =U27/U28 -> -7.0897408 | V29: =V27/V28 -> 0.80367964
A30: 24 | B30: =1/(1+EXP(-($A$3+SUMPRODUCT($B$3:$H$3,data1!B25:H25)))) -> 0.78460532 | C30: =(B30^data1!A25)*((1-B30)^(1-data1!A25)) -> 0.78460532 | D30: =LN(C30) -> -0.24257447 | E30: =data1!$A25-Logit!$B30 -> 0.21539468 | F30: =(data1!$A25-Logit!$B30)*data1!B25 -> 2.0591733 | G30: =(data1!$A25-Logit!$B30)*data1!C25 -> 2.5847362 | H30: =(data1!$A25-Logit!$B30)*data1!D25 -> 3.2309202 | I30: =(data1!$A25-Logit!$B30)*data1!E25 -> 48.463804 | J30: =(data1!$A25-Logit!$B30)*data1!F25 -> 9.6927607 | K30: =(data1!$A25-Logit!$B30)*data1!G25 -> 0 | L30: =(data1!$A25-Logit!$B30)*data1!H25 -> 0
A31: 25 | B31: =1/(1+EXP(-($A$3+SUMPRODUCT($B$3:$H$3,data1!B26:H26)))) -> 0.39266922 | C31: =(B31^data1!A26)*((1-B31)^(1-data1!A26)) -> 0.39266922 | D31: =LN(C31) -> -0.93478769 | E31: =data1!$A26-Logit!$B31 -> 0.60733078 | F31: =(data1!$A26-Logit!$B31)*data1!B26 -> 5.0256336 | G31: =(data1!$A26-Logit!$B31)*data1!C26 -> 7.2879693 | H31: =(data1!$A26-Logit!$B31)*data1!D26 -> 2.4293231 | I31: =(data1!$A26-Logit!$B31)*data1!E26 -> 9.7172924 | J31: =(data1!$A26-Logit!$B31)*data1!F26 -> 18.827254 | K31: =(data1!$A26-Logit!$B31)*data1!G26 -> 0.60733078 | L31: =(data1!$A26-Logit!$B31)*data1!H26 -> 0.60733078
A32: 26 | B32: =1/(1+EXP(-($A$3+SUMPRODUCT($B$3:$H$3,data1!B27:H27)))) -> 0.94629371 | C32: =(B32^data1!A27)*((1-B32)^(1-data1!A27)) -> 0.94629371 | D32: =LN(C32) -> -0.05520228 | E32: =data1!$A27-Logit!$B32 -> 0.053706287 | F32: =(data1!$A27-Logit!$B32)*data1!B27 -> 1.4688662 | G32: =(data1!$A27-Logit!$B32)*data1!C27 -> 0.91300689 | H32: =(data1!$A27-Logit!$B32)*data1!D27 -> 1.127832 | I32: =(data1!$A27-Logit!$B32)*data1!E27 -> 23.684473 | J32: =(data1!$A27-Logit!$B32)*data1!F27 -> 2.3093704 | K32: =(data1!$A27-Logit!$B32)*data1!G27 -> 0 | L32: =(data1!$A27-Logit!$B32)*data1!H27 -> 0.10741257
A33: 27 | B33: =1/(1+EXP(-($A$3+SUMPRODUCT($B$3:$H$3,data1!B28:H28)))) -> 0.71000218 | C33: =(B33^data1!A28)*((1-B33)^(1-data1!A28)) -> 0.71000218 | D33: =LN(C33) -> -0.34248723 | E33: =data1!$A28-Logit!$B33 -> 0.28999782 | F33: =(data1!$A28-Logit!$B33)*data1!B28 -> 4.639965 | G33: =(data1!$A28-Logit!$B33)*data1!C28 -> 3.4799738 | H33: =(data1!$A28-Logit!$B33)*data1!D28 -> 8.9899323 | I33: =(data1!$A28-Logit!$B33)*data1!E28 -> 278.6879 | J33: =(data1!$A28-Logit!$B33)*data1!F28 -> 17.109871 | K33: =(data1!$A28-Logit!$B33)*data1!G28 -> 0 | L33: =(data1!$A28-Logit!$B33)*data1!H28 -> 0
A34: 28 | B34: =1/(1+EXP(-($A$3+SUMPRODUCT($B$3:$H$3,data1!B29:H29)))) -> 0.84257888 | C34: =(B34^data1!A29)*((1-B34)^(1-data1!A29)) -> 0.84257888 | D34: =LN(C34) -> -0.17128799 | E34: =data1!$A29-Logit!$B34 -> 0.15742112 | F34: =(data1!$A29-Logit!$B34)*data1!B29 -> 2.6761563 | G34: =(data1!$A29-Logit!$B34)*data1!C29 -> 1.8890534 | H34: =(data1!$A29-Logit!$B34)*data1!D29 -> 1.4167901 | I34: =(data1!$A29-Logit!$B34)*data1!E29 -> 12.75111 | J34: =(data1!$A29-Logit!$B34)*data1!F29 -> 5.0374757 | K34: =(data1!$A29-Logit!$B34)*data1!G29 -> 0 | L34: =(data1!$A29-Logit!$B34)*data1!H29 -> 0.47226335
A35: 29 | B35: =1/(1+EXP(-($A$3+SUMPRODUCT($B$3:$H$3,data1!B30:H30)))) -> 0.72660424 | C35: =(B35^data1!A30)*((1-B35)^(1-data1!A30)) -> 0.72660424 | D35: =LN(C35) -> -0.31937333 | E35: =data1!$A30-Logit!$B35 -> 0.27339576 | F35: =(data1!$A30-Logit!$B35)*data1!B30 -> 4.1282912 | G35: =(data1!$A30-Logit!$B35)*data1!C30 -> 4.647728 | H35: =(data1!$A30-Logit!$B35)*data1!D30 -> 1.9137703 | I35: =(data1!$A30-Logit!$B35)*data1!E30 -> 13.396392 | J35: =(data1!$A30-Logit!$B35)*data1!F30 -> 8.4752686 | K35: =(data1!$A30-Logit!$B35)*data1!G30 -> 0.27339576 | L35: =(data1!$A30-Logit!$B35)*data1!H30 -> 0
A36: 30 | B36: =1/(1+EXP(-($A$3+SUMPRODUCT($B$3:$H$3,data1!B31:H31)))) -> 0.58270745 | C36: =(B36^data1!A31)*((1-B36)^(1-data1!A31)) -> 0.58270745 | D36: =LN(C36) -> -0.54007002 | E36: =data1!$A31-Logit!$B36 -> 0.41729255 | F36: =(data1!$A31-Logit!$B36)*data1!B31 -> 6.5514862 | G36: =(data1!$A31-Logit!$B36)*data1!C31 -> 5.0075106 | H36: =(data1!$A31-Logit!$B36)*data1!D31 -> 2.9210479 | I36: =(data1!$A31-Logit!$B36)*data1!E31 -> 20.447335 | J36: =(data1!$A31-Logit!$B36)*data1!F31 -> 17.526287 | K36: =(data1!$A31-Logit!$B36)*data1!G31 -> 0 | L36: =(data1!$A31-Logit!$B36)*data1!H31 -> 0
A37: 31 | B37: =1/(1+EXP(-($A$3+SUMPRODUCT($B$3:$H$3,data1!B32:H32)))) -> 0.84630158 | C37: =(B37^data1!A32)*((1-B37)^(1-data1!A32)) -> 0.84630158 | D37: =LN(C37) -> -0.16687951 | E37: =data1!$A32-Logit!$B37 -> 0.15369842 | F37: =(data1!$A32-Logit!$B37)*data1!B32 -> 0.78677606 | G37: =(data1!$A32-Logit!$B37)*data1!C32 -> 1.6906826 | H37: =(data1!$A32-Logit!$B37)*data1!D32 -> 4.9183495 | I37: =(data1!$A32-Logit!$B37)*data1!E32 -> 157.38718 | J37: =(data1!$A32-Logit!$B37)*data1!F32 -> 7.6849211 | K37: =(data1!$A32-Logit!$B37)*data1!G32 -> 0 | L37: =(data1!$A32-Logit!$B37)*data1!H32 -> 0
A38: 32 | B38: =1/(1+EXP(-($A$3+SUMPRODUCT($B$3:$H$3,data1!B33:H33)))) -> 0.57348466 | C38: =(B38^data1!A33)*((1-B38)^(1-data1!A33)) -> 0.57348466 | D38: =LN(C38) -> -0.55602409 | E38: =data1!$A33-Logit!$B38 -> 0.42651534 | F38: =(data1!$A33-Logit!$B38)*data1!B33 -> 7.1441369 | G38: =(data1!$A33-Logit!$B38)*data1!C33 -> 6.8242455 | H38: =(data1!$A33-Logit!$B38)*data1!D33 -> 4.6916688 | I38: =(data1!$A33-Logit!$B38)*data1!E33 -> 51.608356 | J38: =(data1!$A33-Logit!$B38)*data1!F33 -> 25.164405 | K38: =(data1!$A33-Logit!$B38)*data1!G33 -> 0 | L38: =(data1!$A33-Logit!$B38)*data1!H33 -> 0
A39: 33 | B39: =1/(1+EXP(-($A$3+SUMPRODUCT($B$3:$H$3,data1!B34:H34)))) -> 0.92042897 | C39: =(B39^data1!A34)*((1-B39)^(1-data1!A34)) -> 0.92042897 | D39: =LN(C39) -> -0.082915447 | E39: =data1!$A34-Logit!$B39 -> 0.079571031 | F39: =(data1!$A34-Logit!$B39)*data1!B34 -> 1.0821606 | G39: =(data1!$A34-Logit!$B39)*data1!C34 -> 1.0344234 | H39: =(data1!$A34-Logit!$B39)*data1!D34 -> 1.2731365 | I39: =(data1!$A34-Logit!$B39)*data1!E34 -> 20.370184 | J39: =(data1!$A34-Logit!$B39)*data1!F34 -> 2.8645571 | K39: =(data1!$A34-Logit!$B39)*data1!G34 -> 0 | L39: =(data1!$A34-Logit!$B39)*data1!H34 -> 0.15914206
A40: 34 | B40: =1/(1+EXP(-($A$3+SUMPRODUCT($B$3:$H$3,data1!B35:H35)))) -> 0.6339767 | C40: =(B40^data1!A35)*((1-B40)^(1-data1!A35)) -> 0.6339767 | D40: =LN(C40) -> -0.45574308 | E40: =data1!$A35-Logit!$B40 -> 0.3660233 | F40: =(data1!$A35-Logit!$B40)*data1!B35 -> 6.2590161 | G40: =(data1!$A35-Logit!$B40)*data1!C35 -> 4.3922797 | H40: =(data1!$A35-Logit!$B40)*data1!D35 -> 5.1243263 | I40: =(data1!$A35-Logit!$B40)*data1!E35 -> 71.740568 | J40: =(data1!$A35-Logit!$B40)*data1!F35 -> 18.667189 | K40: =(data1!$A35-Logit!$B40)*data1!G35 -> 0 | L40: =(data1!$A35-Logit!$B40)*data1!H35 -> 0.3660233
...

Sheet LPM (OLS)
A1: RESUMO DOS RESULTADOS
A3: Estatística de regressão
A4: R múltiplo | B4: 0.51401961
A5: R-Quadrado | B5: 0.26421616
A6: R-quadrado ajustado | B6: 0.25730275
A7: Erro padrão | B7: 0.42713294
A8: Observações | B8: 753
A10: ANOVA
B11: gl | C11: SQ | D11: MQ | E11: F | F11: F de significação
A12: Regressão | B12: 7 | C12: 48.808058 | D12: 6.9725797 | E12: 38.217947 | F12: 6.8992435e-46
A13: Resíduo | B13: 745 | C13: 135.9197 | D13: 0.18244255
A14: Total | B14: 752 | C14: 184.72776
B16: Coeficientes | C16: Erro padrão | D16: Stat t | E16: valor-P | F16: 95% inferiores | G16: 95% superiores | H16: Inferior 95.0% | I16: Superior 95.0%
A17: Interseção | B17: 0.58551922 | C17: 0.154178 | D17: 3.7976833 | E17: 0.0001579484 | F17: 0.28284417 | G17: 0.88819428 | H17: 0.28284417 | I17: 0.88819428
A18: nwifeinc | B18: -0.0034051689 | C18: 0.00144849 | D18: -2.3508405 | E18: 0.018990802 | F18: -0.0062487768 | G18: -0.00056156099 | H18: -0.0062487768 | I18: -0.00056156099
A19: educ | B19: 0.037995303 | C19: 0.0073760181 | D19: 5.1511944 | E19: 3.3170066e-07 | F19: 0.023515049 | G19: 0.052475557 | H19: 0.023515049 | I19: 0.052475557
A20: exper | B20: 0.039492389 | C20: 0.0056726733 | D20: 6.9618657 | E20: 7.3761063e-12 | F20: 0.028356062 | G20: 0.050628717 | H20: 0.028356062 | I20: 0.050628717
A21: expersq | B21: -0.0005963119 | C21: 0.00018479069 | D21: -3.2269586 | E21: 0.0013058579 | F21: -0.00095908436 | G21: -0.00023353945 | H21: -0.00095908436 | I21: -0.00023353945
A22: age | B22: -0.016090806 | C22: 0.0024846775 | D22: -6.4760139 | E22: 1.7092878e-10 | F22: -0.020968609 | G22: -0.011213003 | H22: -0.020968609 | I22: -0.011213003
A23: kidslt6 | B23: -0.26181047 | C23: 0.033505785 | D23: -7.8138885 | E23: 1.8888771e-14 | F23: -0.32758746 | G23: -0.19603347 | H23: -0.32758746 | I23: -0.19603347
A24: kidsge6 | B24: 0.013012235 | C24: 0.013195959 | D24: 0.98607719 | E24: 0.32441537 | F24: -0.012893457 | G24: 0.038917926 | H24: -0.012893457 | I24: 0.038917926

Sheet data1
A1: inlf | B1: nwifeinc | C1: educ | D1: exper | E1: expersq | F1: age | G1: kidslt6 | H1: kidsge6
A2: 1 | B2: 10.91006 | C2: 12 | D2: 14 | E2: 196 | F2: 32 | G2: 1 | H2: 0
A3: 1 | B3: 19.499981 | C3: 12 | D3: 5 | E3: 25 | F3: 30 | G3: 0 | H3: 2
A4: 1 | B4: 12.03991 | C4: 12 | D4: 15 | E4: 225 | F4: 35 | G4: 1 | H4: 3
A5: 1 | B5: 6.7999959 | C5: 12 | D5: 6 | E5: 36 | F5: 34 | G5: 0 | H5: 3
A6: 1 | B6: 20.100058 | C6: 14 | D6: 7 | E6: 49 | F6: 31 | G6: 1 | H6: 2
A7: 1 | B7: 9.8590536 | C7: 12 | D7: 33 | E7: 1089 | F7: 54 | G7: 0 | H7: 0
A8: 1 | B8: 9.1520481 | C8: 16 | D8: 11 | E8: 121 | F8: 37 | G8: 0 | H8: 2
A9: 1 | B9: 10.900038 | C9: 12 | D9: 35 | E9: 1225 | F9: 54 | G9: 0 | H9: 0
A10: 1 | B10: 17.305 | C10: 12 | D10: 24 | E10: 576 | F10: 48 | G10: 0 | H10: 2
A11: 1 | B11: 12.925 | C11: 12 | D11: 21 | E11: 441 | F11: 39 | G11: 0 | H11: 2
A12: 1 | B12: 24.299953 | C12: 12 | D12: 15 | E12: 225 | F12: 33 | G12: 0 | H12: 1
A13: 1 | B13: 19.700071 | C13: 11 | D13: 14 | E13: 196 | F13: 42 | G13: 0 | H13: 1
... A754: 0 | B754: 28.363001 | C754: 9 | D754: 12 | E754: 144 | F754: 39 | G754: 0 | H754: 3

Sheet data0
A1: inlf | B1: hours | C1: kidslt6 | D1: kidsge6 | E1: age | F1: educ | G1: wage | H1: repwage | I1: hushrs | J1: husage | K1: huseduc | L1: huswage | M1: faminc | N1: mtr | O1: motheduc | P1: fatheduc | Q1: unem | R1: city | S1: exper | T1: nwifeinc | U1: lwage | V1: expersq
A2: 1 | B2: 1610 | C2: 1 | D2: 0 | E2: 32 | F2: 12 | G2: 3.3540001 | H2: 2.6500001 | I2: 2708 | J2: 34 | K2: 12 | L2: 4.0288 | M2: 16310 | N2: 0.72149998 | O2: 12 | P2: 7 | Q2: 5 | R2: 0 | S2: 14 | T2: 10.91006 | U2: 1.2101537 | V2: 196
A3: 1 | B3: 1656 | C3: 0 | D3: 2 | E3: 30 | F3: 12 | G3: 1.3889 | H3: 2.6500001 | I3: 2310 | J3: 30 | K3: 9 | L3: 8.4415998 | M3: 21800 | N3: 0.66149998 | O3: 7 | P3: 7 | Q3: 11 | R3: 1 | S3: 5 | T3: 19.499981 | U3: 0.3285121 | V3: 25
A4: 1 | B4: 1980 | C4: 1 | D4: 3 | E4: 35 | F4: 12 | G4: 4.5454998 | H4: 4.04 | I4: 3072 | J4: 40 | K4: 12 | L4: 3.5806999 | M4: 21040 | N4: 0.69150001 | O4: 12 | P4: 7 | Q4: 5 | R4: 0 | S4: 15 | T4: 12.03991 | U4: 1.5141377 | V4: 225
A5: 1 | B5: 456 | C5: 0 | D5: 3 | E5: 34 | F5: 12 | G5: 1.0965 | H5: 3.25 | I5: 1920 | J5: 53 | K5: 10 | L5: 3.5416999 | M5: 7300 | N5: 0.78149998 | O5: 7 | P5: 7 | Q5: 5 | R5: 0 | S5: 6 | T5: 6.7999959 | U5: 0.092123322 | V5: 36
A6: 1 | B6: 1568 | C6: 1 | D6: 2 | E6: 31 | F6: 14 | G6: 4.5918002 | H6: 3.5999999 | I6: 2000 | J6: 32 | K6: 12 | L6: 10 | M6: 27300 | N6: 0.62150002 | O6: 12 | P6: 14 | Q6: 9.5 | R6: 1 | S6: 7 | T6: 20.100058 | U6: 1.5242722 | V6: 49
A7: 1 | B7: 2032 | C7: 0 | D7: 0 | E7: 54 | F7: 12 | G7: 4.7420998 | H7: 4.6999998 | I7: 1040 | J7: 57 | K7: 11 | L7: 6.7105999 | M7: 19495 | N7: 0.69150001 | O7: 14 | P7: 7 | Q7: 7.5 | R7: 1 | S7: 33 | T7: 9.8590536 | U7: 1.5564801 | V7: 1089
A8: 1 | B8: 1440 | C8: 0 | D8: 2 | E8: 37 | F8: 16 | G8: 8.3332996 | H8: 5.9499998 | I8: 2670 | J8: 37 | K8: 12 | L8: 3.4277 | M8: 21152 | N8: 0.69150001 | O8: 14 | P8: 7 | Q8: 5 | R8: 0 | S8: 11 | T8: 9.1520481 | U8: 2.1202595 | V8: 121
A9: 1 | B9: 1020 | C9: 0 | D9: 0 | E9: 54 | F9: 12 | G9: 7.8431001 | H9: 9.9799995 | I9: 4120 | J9: 53 | K9: 8 | L9: 2.5485001 | M9: 18900 | N9: 0.69150001 | O9: 3 | P9: 3 | Q9: 5 | R9: 0 | S9: 35 | T9: 10.900038 | U9: 2.0596342 | V9: 1225
A10: 1 | B10: 1458 | C10: 0 | D10: 2 | E10: 48 | F10: 12 | G10: 2.1262 | H10: 0 | I10: 1995 | J10: 52 | K10: 4 | L10: 4.2206001 | M10: 20405 | N10: 0.75150001 | O10: 7 | P10: 7 | Q10: 3 | R10: 0 | S10: 24 | T10: 17.305 | U10: 0.75433636 | V10: 576
A11: 1 | B11: 1600 | C11: 0 | D11: 2 | E11: 39 | F11: 12 | G11: 4.6875 | H11: 4.1500001 | I11: 2100 | J11: 43 | K11: 12 | L11: 5.7143002 | M11: 20425 | N11: 0.69150001 | O11: 7 | P11: 7 | Q11: 5 | R11: 0 | S11: 21 | T11: 12.925 | U11: 1.5448993 | V11: 441
A12: 1 | B12: 1969 | C12: 0 | D12: 1 | E12: 33 | F12: 12 | G12: 4.0630002 | H12: 4.3000002 | I12: 2450 | J12: 34 | K12: 12 | L12: 9.7959003 | M12: 32300 | N12: 0.58149999 | O12: 12 | P12: 3 | Q12: 5 | R12: 0 | S12: 15 | T12: 24.299953 | U12: 1.4019216 | V12: 225
A13: 1 | B13: 1960 | C13: 0 | D13: 1 | E13: 42 | F13: 11 | G13: 4.5918002 | H13: 4.5799999 | I13: 2375 | J13: 47 | K13: 14 | L13: 8 | M13: 28700 | N13: 0.62150002 | O13: 14 | P13: 7 | Q13: 5 | R13: 0 | S13: 14 | T13: 19.700071 | U13: 1.5242722 | V13: 196
... A429: 1 | B429: 490 | C429: 0 | D429: 1 | E429: 30 | F429: 12 | G429: 4.0816002 | H429: 2.46 | I429: 2430 | J429: 33 | K429: 11 | L429: 6.5844002 | M429: 18000 | N429: 0.69150001 | O429: 12 | P429: 12 | Q429: 7.5 | R429: 1 | S429: 7 | T429: 16.000015 | U429: 1.4064891 | V429: 49
A430: 0 | B430: 0 | C430: 0 | D430: 1 | E430: 49 | F430: 12 | H430: 0 | I430: 2550 | J430: 54 | K430: 15 | L430: 7.8529 | M430: 21025 | N430: 0.66149998 | O430: 14 | P430: 12 | Q430: 7.5 | R430: 1 | S430: 2 | T430: 21.025 | V430: 4
A431: 0 | B431: 0 | C431: 2 | D431: 0 | E431: 30 | F431: 16 | H431: 0 | I431: 1928 | J431: 34 | K431: 16 | L431: 11.929 | M431: 23600 | N431: 0.66149998 | O431: 14 | P431: 7 | Q431: 9.5 | R431: 1 | S431: 5 | T431: 23.6 | V431: 25
A432: 0 | B432: 0 | C432: 1 | D432: 0 | E432: 30 | F432: 12 | H432: 0 | I432: 1100 | J432: 39 | K432: 17 | L432: 18 | M432: 22800 | N432: 0.66149998 | O432: 12 | P432: 12 | Q432: 7.5 | R432: 0 | S432: 12 | T432: 22.799999 | V432: 144
A433: 0 | B433: 0 | C433: 0 | D433: 4 | E433: 41 | F433: 12 | H433: 0 | I433: 3193 | J433: 40 | K433: 16 | L433: 10.022 | M433: 35910 | N433: 0.58149999 | O433: 7 | P433: 7 | Q433: 7.5 | R433: 1 | S433: 1 | T433: 35.91 | V433: 1
A434: 0 | B434: 0 | C434: 0 | D434: 1 | E434: 45 | F434: 12 | H434: 0 | I434: 2250 | J434: 46 | K434: 16 | L434: 9.3332996 | M434: 21700 | N434: 0.66149998 | O434: 7 | P434: 7 | Q434: 5 | R434: 1 | S434: 12 | T434: 21.700001 | V434: 144
A435: 0 | B435: 0 | C435: 0 | D435: 5 | E435: 43 | F435: 12 | H435: 0 | I435: 2012 | J435: 44 | K435: 13 | L435: 6.085 | M435: 21823 | N435: 0.75150001 | O435: 7 | P435: 7 | Q435: 7.5 | R435: 1 | S435: 4 | T435: 21.823 | V435: 16
A436: 0 | B436: 0 | C436: 0 | D436: 1 | E436: 42 | F436: 13 | H436: 0 | I436: 3856 | J436: 46 | K436: 15 | L436: 5.7054 | M436: 31000 | N436: 0.66149998 | O436: 10 | P436: 7 | Q436: 11 | R436: 1 | S436: 9 | T436: 31 | V436: 81
A437: 0 | B437: 0 | C437: 0 | D437: 0 | E437: 60 | F437: 12 | H437: 0 | I437: 1645 | J437: 58 | K437: 12 | L437: 9.1184998 | M437: 15300 | N437: 0.72149998 | O437: 7 | P437: 7 | Q437: 7.5 | R437: 1 | S437: 9 | T437: 15.3 | V437: 81
A438: 0 | B438: 0 | C438: 0 | D438: 0 | E438: 57 | F438: 12 | H438: 0 | I438: 1554 | J438: 57 | K438: 12 | L438: 7.2072001 | M438: 12925 | N438: 0.72149998 | O438: 9 | P438: 3 | Q438: 7.5 | R438: 1 | S438: 6 | T438: 12.925 | V438: 36
A439: 0 | B439: 0 | C439: 0 | D439: 2 | E439: 38 | F439: 10 | H439: 0 | I439: 2352 | J439: 41 | K439: 8 | L439: 5.3146 | M439: 15830 | N439: 0.75150001 | O439: 12 | P439: 7 | Q439: 5 | R439: 0 | S439: 5 | T439: 15.83 | V439: 25
A440: 0 | B440: 0 | C440: 0 | D440: 0 | E440: 56 | F440: 12 | H440: 0 | I440: 1980 | J440: 58 | K440: 12 | L440: 8.2827997 | M440: 30200 | N440: 0.69150001 | O440: 12 | P440: 12 | Q440: 7.5 | R440: 1 | S440: 5 | T440: 30.200001 | V440: 25
A441: 0 | B441: 0 | C441: 0 | D441: 3 | E441: 32 | F441: 12 | H441: 0 | I441: 2352 | J441: 37 | K441: 7 | L441: 7.0577998 | M441: 16600 | N441: 0.72149998 | O441: 10 | P441: 7 | Q441: 5 | R441: 0 | S441: 8 | T441: 16.6 | V441: 64
... A754: 0 | B754: 0 | C754: 0 | D754: 3 | E754: 39 | F754: 9 | H754: 0 | I754: 3120 | J754: 48 | K754: 12 | L754: 6.0897002 | M754: 28363 | N754: 0.69150001 | O754: 7 | P754: 7 | Q754: 11 | R754: 1 | S754: 12 | T754: 28.363001 | V754: 144

Sheet objetivo
